{
 "currentVersion": 11.5,
 "cimVersion": "3.5.0",
 "serviceDescription": "",
 "mapName": "Layers",
 "description": "",
 "copyrightText": "",
 "supportsDynamicLayers": true,
 "layers": [
  {
   "id": 0,
   "name": "Hydro Breaklines",
   "parentLayerId": -1,
   "defaultVisibility": true,
   "subLayerIds": null,
   "minScale": 0,
   "maxScale": 0,
   "type": "Feature Layer",
   "geometryType": "esriGeometryPolygon",
   "supportsDynamicLegends": true
  },
  {
   "id": 1,
   "name": "dem01",
   "parentLayerId": -1,
   "defaultVisibility": false,
   "subLayerIds": null,
   "minScale": 0,
   "maxScale": 0,
   "type": "Raster Layer",
   "supportsDynamicLegends": true
  },
  {
   "id": 2,
   "name": "dem01hs",
   "parentLayerId": -1,
   "defaultVisibility": true,
   "subLayerIds": null,
   "minScale": 0,
   "maxScale": 0,
   "type": "Raster Layer",
   "supportsDynamicLegends": true
  }
 ],
 "tables": [],
 "spatialReference": {
  "wkid": 103788,
  "latestWkid": 103788,
  "xyTolerance": 5.120000004768372E-4,
  "zTolerance": 2.0E-5,
  "mTolerance": 0.001,
  "falseX": -118675600,
  "falseY": -99056600,
  "xyUnits": 3.778961152593731E7,
  "falseZ": 0,
  "zUnits": 100000,
  "falseM": -100000,
  "mUnits": 10000
 },
 "singleFusedMapCache": true,
 "tileInfo": {
  "rows": 256,
  "cols": 256,
  "dpi": 96,
  "format": "MIXED",
  "compressionQuality": 75,
  "origin": {
   "x": -118675600,
   "y": 1.3929460000000003E8
  },
  "spatialReference": {
   "wkid": 103788,
   "latestWkid": 103788,
   "xyTolerance": 5.120000004768372E-4,
   "zTolerance": 2.0E-5,
   "mTolerance": 0.001,
   "falseX": -118675600,
   "falseY": -99056600,
   "xyUnits": 3.778961152593731E7,
   "falseZ": 0,
   "zUnits": 100000,
   "falseM": -100000,
   "mUnits": 10000
  },
  "lods": [
   {
    "level": 0,
    "resolution": 273.4375,
    "scale": 315000
   },
   {
    "level": 1,
    "resolution": 121.52777777777777,
    "scale": 140000
   },
   {
    "level": 2,
    "resolution": 55.55555555555555,
    "scale": 64000
   },
   {
    "level": 3,
    "resolution": 20.833333333333332,
    "scale": 24000
   },
   {
    "level": 4,
    "resolution": 13.888888888888888,
    "scale": 16000
   },
   {
    "level": 5,
    "resolution": 6.944444444444444,
    "scale": 8000
   },
   {
    "level": 6,
    "resolution": 3.472222222222222,
    "scale": 4000
   },
   {
    "level": 7,
    "resolution": 2.083333333333333,
    "scale": 2400
   },
   {
    "level": 8,
    "resolution": 1.0416666666666665,
    "scale": 1200
   },
   {
    "level": 9,
    "resolution": 0.5208333333333333,
    "scale": 600
   }
  ]
 },
 "storageInfo": {
  "storageFormat": "esriMapCacheStorageModeCompact",
  "packetSize": 128
 },
 "initialExtent": {
  "xmin": 185378.20955107678,
  "ymin": 255752.21036595863,
  "xmax": 568888.856487606,
  "ymax": 392147.2103224648,
  "spatialReference": {
   "wkid": 103788,
   "latestWkid": 103788,
   "xyTolerance": 5.120000004768372E-4,
   "zTolerance": 2.0E-5,
   "mTolerance": 0.001,
   "falseX": -118675600,
   "falseY": -99056600,
   "xyUnits": 3.778961152593731E7,
   "falseZ": 0,
   "zUnits": 100000,
   "falseM": -100000,
   "mUnits": 10000
  }
 },
 "fullExtent": {
  "xmin": 317343.3693225909,
  "ymin": 166110.79060844734,
  "xmax": 436923.6967160919,
  "ymax": 342413.5713008939,
  "zmin": 371.7595000000001,
  "zmax": 440.6676000000007,
  "mmin": null,
  "mmax": null,
  "spatialReference": {
   "wkid": 103788,
   "latestWkid": 103788,
   "xyTolerance": 5.120000004768372E-4,
   "zTolerance": 2.0E-5,
   "mTolerance": 0.001,
   "falseX": -118675600,
   "falseY": -99056600,
   "xyUnits": 3.778961152593731E7,
   "falseZ": 0,
   "zUnits": 100000,
   "falseM": -100000,
   "mUnits": 10000
  }
 },
 "datesInUnknownTimezone": false,
 "minScale": 315000,
 "maxScale": 600,
 "units": "esriFeet",
 "supportedImageFormatTypes": "PNG32,PNG24,PNG,JPG,DIB,TIFF,EMF,PS,PDF,GIF,SVG,SVGZ,BMP",
 "documentInfo": {
  "Title": "",
  "Author": "",
  "Comments": "",
  "Subject": "",
  "Category": "",
  "Version": "10.1",
  "AntialiasingMode": "Best",
  "TextAntialiasingMode": "Force",
  "Keywords": ""
 },
 "supportsQueryDomains": true,
 "capabilities": "Map,Query,Data",
 "supportedQueryFormats": "JSON, geoJSON, PBF",
 "exportTilesAllowed": false,
 "referenceScale": 0.0,
 "supportsDatumTransformation": true,
 "archivingInfo": {
  "supportsHistoricMoment": false
 },
 "supportsClipping": true,
 "supportsSpatialFilter": true,
 "supportsTimeRelation": true,
 "supportsQueryDataElements": true,
 "mapUnits": {
  "uwkid": 9003
 },
 "maxSelectionCount": 2000,
 "maxRecordCount": 1000,
 "maxImageHeight": 4096,
 "maxImageWidth": 4096,
 "supportedExtensions": "",
 "serviceItemId": "bf5dff6a35714b988dbd023ba6300a8f"
}
